BEGIN:VCALENDAR
VERSION:2.0
PRODID:-//Santa Fe Business Incubator - ECPv6.15.20//NONSGML v1.0//EN
CALSCALE:GREGORIAN
METHOD:PUBLISH
X-WR-CALNAME:Santa Fe Business Incubator
X-ORIGINAL-URL:https://sfbi.net
X-WR-CALDESC:Events for Santa Fe Business Incubator
REFRESH-INTERVAL;VALUE=DURATION:PT1H
X-Robots-Tag:noindex
X-PUBLISHED-TTL:PT1H
BEGIN:VTIMEZONE
TZID:America/Denver
BEGIN:DAYLIGHT
TZOFFSETFROM:-0700
TZOFFSETTO:-0600
TZNAME:MDT
DTSTART:20250309T090000
END:DAYLIGHT
BEGIN:STANDARD
TZOFFSETFROM:-0600
TZOFFSETTO:-0700
TZNAME:MST
DTSTART:20251102T080000
END:STANDARD
BEGIN:DAYLIGHT
TZOFFSETFROM:-0700
TZOFFSETTO:-0600
TZNAME:MDT
DTSTART:20260308T090000
END:DAYLIGHT
BEGIN:STANDARD
TZOFFSETFROM:-0600
TZOFFSETTO:-0700
TZNAME:MST
DTSTART:20261101T080000
END:STANDARD
BEGIN:DAYLIGHT
TZOFFSETFROM:-0700
TZOFFSETTO:-0600
TZNAME:MDT
DTSTART:20270314T090000
END:DAYLIGHT
BEGIN:STANDARD
TZOFFSETFROM:-0600
TZOFFSETTO:-0700
TZNAME:MST
DTSTART:20271107T080000
END:STANDARD
END:VTIMEZONE
BEGIN:VEVENT
DTSTART;TZID=America/Denver:20260401T120000
DTEND;TZID=America/Denver:20260401T133000
DTSTAMP:20260421T094843
CREATED:20260223T230826Z
LAST-MODIFIED:20260223T230826Z
UID:4748-1775044800-1775050200@sfbi.net
SUMMARY:Runway
DESCRIPTION:Ready to turn your idea into a business? Runway — our Pre-Incubation Program — kicks off April 1st\, and applications are open NOW.  \nRunway gives early-stage entrepreneurs in Northern New Mexico the tools\, mentorship\, and momentum to go from concept to company. Whether you’re still validating your idea or ready to take the first real steps\, Runway was built for you.\n✅ Structured curriculum\n✅ Expert mentors and advisors\n✅ A cohort of fellow founders\n✅ Backed by the City of Santa Fe\, Arrowhead Center at NM State\, and the SF Small Business Navigator Program Seats are limited.  \nApply Here
URL:https://sfbi.net/event/runway/
LOCATION:Santa Fe Business Incubator\, 3900 Paseo del Sol\, Santa Fe\, NM\, 87507\, United States
ORGANIZER;CN="Santa Fe Business Incubator":MAILTO:jmoose@sfbi.net
END:VEVENT
BEGIN:VEVENT
DTSTART;TZID=America/Denver:20260423T113000
DTEND;TZID=America/Denver:20260423T130000
DTSTAMP:20260421T094843
CREATED:20260420T173330Z
LAST-MODIFIED:20260420T173810Z
UID:4778-1776943800-1776949200@sfbi.net
SUMMARY:Illuminate Leadership Development
DESCRIPTION:The Illuminate Leadership Development Luncheon Series is a six-session\, weekly workshop experience that builds upon the last session. This series is for business owners\, founders\, nonprofit leaders\, and community builders navigating leadership in a rapidly changing world. We cannot go where we are going\, doing things as we have. Leaders stepping into the next economy are ready to learn and embody new traits and tools for what’s coming and where they are going. This series was created for them. \nSessions run 90 minutes and blend regenerative leadership principles\, indigenous-informed relational frameworks\, quantum framework\, mindfulness practices\, ethical AI applications\, and authentic storytelling—paired with practical tools participants can apply immediately. \nFor more information and to register
URL:https://sfbi.net/event/illuminate-leadership-development/
LOCATION:Santa Fe Business Incubator\, 3900 Paseo del Sol\, Santa Fe\, NM\, 87507\, United States
CATEGORIES:SF Community Event
END:VEVENT
BEGIN:VEVENT
DTSTART;TZID=America/Denver:20260429T113000
DTEND;TZID=America/Denver:20260429T130000
DTSTAMP:20260421T094843
CREATED:20260420T174735Z
LAST-MODIFIED:20260420T174735Z
UID:4786-1777462200-1777467600@sfbi.net
SUMMARY:Lunch and Learn Series: Mission Model Canvas
DESCRIPTION:Stop Planning. Start Delivering. \nIs your nonprofit stuck in the “business plan” phase while your community is waiting for impact? \nTraditional plans can be too rigid for the real-world demands of mission-driven work. This interactive Lunch & Learn introduces a more dynamic approach—the Mission Model Canvas—a powerful\, visual tool designed to help nonprofits clarify\, test\, and strengthen how they deliver value. \nWhether you’re launching a new initiative or leading an established organization\, this session will help you rethink your strategy and take action with confidence. \nWhat You’ll Gain \nMove from Planning to Doing\nLearn why traditional business plans often fall short—and how to use the Mission Model Canvas to adapt\, pivot\, and grow your impact in real time.\nFocus on Outcomes\, Not Just Outputs\nShift from tracking activities to measuring meaningful results\, like long-term community impact and successful beneficiary outcomes.\nStress-Test Your Strategy\nUse the Mission Model Canvas alongside a focused SWOT analysis to uncover gaps\, identify key stakeholders\, and build a clearer path forward.\nMeet the Presenter \nTimothy Daniel – SCORE Volunteer Mentor & Educator \nTimothy Daniel has been an entrepreneur since childhood\, with a lifelong curiosity about what drives success. Over his 15+ years with SCORE\, he has mentored more than 600 small business owners across diverse industries\, helping them refine strategy\, overcome challenges\, and grow sustainably. \nWho Should Attend:\nNonprofit founders\, executive directors\, board members\, program managers\, and anyone looking to strengthen their organization’s impact and sustainability.
URL:https://sfbi.net/event/lunch-and-learn-series-mission-model-canvas/
LOCATION:Santa Fe Business Incubator\, 3900 Paseo del Sol\, Santa Fe\, NM\, 87507\, United States
ORGANIZER;CN="SCORE Santa Fe & Northern New Mexico":MAILTO:SantaFeSCORE@gmail.com
END:VEVENT
BEGIN:VEVENT
DTSTART;TZID=America/Denver:20260429T173000
DTEND;TZID=America/Denver:20260429T190000
DTSTAMP:20260421T094843
CREATED:20260420T174104Z
LAST-MODIFIED:20260420T174104Z
UID:4780-1777483800-1777489200@sfbi.net
SUMMARY:WESST – The Many Ways Customers Discover You
DESCRIPTION:Customers rarely discover a business through just one channel. This session explores the many ways potential customers may find you\, whether through word of mouth\, online searches\, social media\, or community connections. Participants will learn how people move through different paths before reaching out to a business and will identify simple opportunities to increase their visibility and make it easier for customers to find them. \nFree food provided!
URL:https://sfbi.net/event/wesst-the-many-ways-customers-discover-you/
LOCATION:Santa Fe Business Incubator\, 3900 Paseo del Sol\, Santa Fe\, NM\, 87507\, United States
END:VEVENT
BEGIN:VEVENT
DTSTART;TZID=America/Denver:20260430T113000
DTEND;TZID=America/Denver:20260430T133000
DTSTAMP:20260421T094843
CREATED:20260420T174246Z
LAST-MODIFIED:20260420T174246Z
UID:4782-1777548600-1777555800@sfbi.net
SUMMARY:Native American Business Roundtable - City of Santa Fe Economic Development
DESCRIPTION:Get ready to connect\, learn\, and grow your Native American business at the City of Santa Fe Economic Development Monthly Roundtable! \nWelcome to the Native American Business Roundtable – City of Santa Fe Economic Development event! Join us at Santa Fe Business Incubator on February 26\, 2026 at 11:30 AM (Mountain Time) for a day filled with networking and discussions on economic growth in the Native American business community. Don’t miss out on this opportunity to connect with like-minded individuals and learn from industry experts. See you there!
URL:https://sfbi.net/event/native-american-business-roundtable-city-of-santa-fe-economic-development/
LOCATION:Santa Fe Business Incubator\, 3900 Paseo del Sol\, Santa Fe\, NM\, 87507\, United States
END:VEVENT
BEGIN:VEVENT
DTSTART;TZID=America/Denver:20260430T170000
DTEND;TZID=America/Denver:20260430T190000
DTSTAMP:20260421T094843
CREATED:20260420T174401Z
LAST-MODIFIED:20260420T174401Z
UID:4784-1777568400-1777575600@sfbi.net
SUMMARY:Avitia Business Services – Talleres de Empoderamiento Financiero: Finanzas personales y empresariales
DESCRIPTION:Los Talleres de Empoderamiento Financiero son una serie práctica y práctica diseñada para dueños de negocios y emprendedores que desean ganar confianza y claridad en sus finanzas personales y empresariales. Estos talleres\, que se imparten de febrero a abril de 2026\, se realizan los miércoles por la tarde (de 17:00 a 19:00 h) y guían a los participantes sobre temas financieros esenciales\, como presupuestos\, crédito\, deudas\, ahorros\, contabilidad\, flujo de caja\, precios y estrategias para integrar las finanzas personales y empresariales. \nCada sesión es independiente y\, a la vez\, fomenta una comprensión integral de la salud financiera\, lo que le permitirá tomar decisiones informadas\, fortalecer las bases de su negocio y planificar la sostenibilidad a largo plazo. \nYa sea que estés empezando o perfeccionando tus sistemas financieros\, esta serie te ofrece herramientas prácticas\, orientación experta y un ambiente de aprendizaje propicio. Reserva tu plaza hoy mismo y da el siguiente paso para dominar tus finanzas.
URL:https://sfbi.net/event/avitia-business-services-talleres-de-empoderamiento-financiero-finanzas-personales-y-empresariales/
LOCATION:Santa Fe Business Incubator\, 3900 Paseo del Sol\, Santa Fe\, NM\, 87507\, United States
END:VEVENT
BEGIN:VEVENT
DTSTART;TZID=America/Denver:20260519T120000
DTEND;TZID=America/Denver:20260519T140000
DTSTAMP:20260421T094843
CREATED:20260420T175755Z
LAST-MODIFIED:20260420T175757Z
UID:4789-1779192000-1779199200@sfbi.net
SUMMARY:Young Entrepreneurs Santa Fe
DESCRIPTION:The hardest part of starting a business isn’t the idea. \nIt’s the isolation. \nYou’re making decisions you’ve never made before. You’re not sure if your pricing is right\, your structure holds up\, or whether the market actually wants what you’re building. And most of the time\, you’re figuring it out alone. \nThat’s exactly what Santa Fe’s entrepreneurial ecosystem was built to change. \nWhen a young founder joins the SFBI Young Entrepreneur Program\, they don’t just get curriculum — they get a network. Relationships with City and County economic development offices who are actively investing in local business growth. \nIf you’re 18–40 and working on something in Santa Fe — or if you know a founder who needs this — applications close in early May. \nYou’re not building alone. \nBuild Here. Grow Here.
URL:https://sfbi.net/event/young-entrepreneurs-santa-fe/
LOCATION:Santa Fe Business Incubator\, 3900 Paseo del Sol\, Santa Fe\, NM\, 87507\, United States
CATEGORIES:SF Community Event
ORGANIZER;CN="Santa Fe Business Incubator":MAILTO:jmoose@sfbi.net
END:VEVENT
END:VCALENDAR