BEGIN:VCALENDAR
VERSION:2.0
PRODID:-//Santa Fe Business Incubator - ECPv6.15.20//NONSGML v1.0//EN
CALSCALE:GREGORIAN
METHOD:PUBLISH
X-ORIGINAL-URL:https://sfbi.net
X-WR-CALDESC:Events for Santa Fe Business Incubator
REFRESH-INTERVAL;VALUE=DURATION:PT1H
X-Robots-Tag:noindex
X-PUBLISHED-TTL:PT1H
BEGIN:VTIMEZONE
TZID:America/Denver
BEGIN:DAYLIGHT
TZOFFSETFROM:-0700
TZOFFSETTO:-0600
TZNAME:MDT
DTSTART:20210314T090000
END:DAYLIGHT
BEGIN:STANDARD
TZOFFSETFROM:-0600
TZOFFSETTO:-0700
TZNAME:MST
DTSTART:20211107T080000
END:STANDARD
BEGIN:DAYLIGHT
TZOFFSETFROM:-0700
TZOFFSETTO:-0600
TZNAME:MDT
DTSTART:20220313T090000
END:DAYLIGHT
BEGIN:STANDARD
TZOFFSETFROM:-0600
TZOFFSETTO:-0700
TZNAME:MST
DTSTART:20221106T080000
END:STANDARD
BEGIN:DAYLIGHT
TZOFFSETFROM:-0700
TZOFFSETTO:-0600
TZNAME:MDT
DTSTART:20230312T090000
END:DAYLIGHT
BEGIN:STANDARD
TZOFFSETFROM:-0600
TZOFFSETTO:-0700
TZNAME:MST
DTSTART:20231105T080000
END:STANDARD
END:VTIMEZONE
BEGIN:VEVENT
DTSTART;TZID=America/Denver:20220623T100000
DTEND;TZID=America/Denver:20220623T120000
DTSTAMP:20260422T090945
CREATED:20220607T191655Z
LAST-MODIFIED:20220607T191655Z
UID:3578-1655978400-1655985600@sfbi.net
SUMMARY:Expert Connections: Content Creation & Communications
DESCRIPTION:For the month of June we welcome back Kelly Koepke\, a professional writer who focuses on content creation and collaboration for small and large companies. \nGood business collateral can make or break your business. Without it\, your message falls flat. What are the key elements of good writing\, and do your communication tools – websites\, social media\, one-sheets\, bios\, LinkedIn profiles – have them? Kelly works with a diverse client base and mentors entrepreneurs to better communicate their messages. \nEmail SFBI Program Director\, Jessica Moose at jm****@**bi.net to reserve your FREE\, 30-minute consultation with business content creator and collaborator\, Kelly Koepke. \nPlease include your preferred time slot in the email. \nFour time slots are currently available.\nFirst come\, first serve. \n10:00am – 10:30am\n10:30am – 11:00am\n11:00am – 11:30am\n11:30am – 12:00pm \nThe Zoom meeting link will be shared via your confirmation email. \nThis is open to ALL small business owners\, startup founders and c-suite leaders located in Santa Fe\, NM so please feel free to share this with any entrepreneurs or colleagues that may benefit. Thank you.
URL:https://sfbi.net/event/expert-connections-content-creation-communications/
LOCATION:Virtual Office Hours
END:VEVENT
END:VCALENDAR